BEGIN:VCALENDAR
VERSION:2.0
PRODID:-//Christliches Gemeindezentrum - ECPv6.10.0//NONSGML v1.0//EN
CALSCALE:GREGORIAN
METHOD:PUBLISH
X-ORIGINAL-URL:https://alles-fuer-jesus.de
X-WR-CALDESC:Veranstaltungen für Christliches Gemeindezentrum
REFRESH-INTERVAL;VALUE=DURATION:PT1H
X-Robots-Tag:noindex
X-PUBLISHED-TTL:PT1H
BEGIN:VTIMEZONE
TZID:Europe/Berlin
BEGIN:DAYLIGHT
TZOFFSETFROM:+0100
TZOFFSETTO:+0200
TZNAME:CEST
DTSTART:20260329T010000
END:DAYLIGHT
BEGIN:STANDARD
TZOFFSETFROM:+0200
TZOFFSETTO:+0100
TZNAME:CET
DTSTART:20261025T010000
END:STANDARD
END:VTIMEZONE
BEGIN:VEVENT
DTSTART;TZID=Europe/Berlin:20260420T190000
DTEND;TZID=Europe/Berlin:20260420T200000
DTSTAMP:20260420T141536
CREATED:20170917T145121Z
LAST-MODIFIED:20241201T100725Z
UID:4690-1776711600-1776715200@alles-fuer-jesus.de
SUMMARY:Gebetsabend
DESCRIPTION:Wir treffen uns jeden Montag im Christlichen Gemeindezentrum Alles für Jesus e.V um gemeinsame Anliegen vor Gott zu bringen und ihn zu preisen.
URL:https://alles-fuer-jesus.de/event/gebetsabend-2024-06-03-2024-12-09-2026-04-20/
LOCATION:BW
CATEGORIES:Gebetsabend
END:VEVENT
BEGIN:VEVENT
DTSTART;TZID=Europe/Berlin:20260422T200000
DTEND;TZID=Europe/Berlin:20260422T220000
DTSTAMP:20260420T141536
CREATED:20201109T133030Z
LAST-MODIFIED:20201109T133030Z
UID:4694-1776888000-1776895200@alles-fuer-jesus.de
SUMMARY:Bibelabend
DESCRIPTION:Die aktuelle Alternative zum Hauskreis. \nAufgrund der hohen Teilnehmerzahl haben wir den Hauskreis in die Gemeinde verlegt. Der Bibelabend ist eine geniale Möglichkeit unter der Woche in einem gemütlichen Kreis zusammenzukommen. Hier treffen wir uns in einer lockeren Runde\, um zusammen Lobpreis zu machen\, bei Kaffee oder Tee Gemeinschaft zu pflegen und über Gottes Wort zu reden. Meist gibt es kein festes Thema. Der Abend ist eine gute und gerne genutzte Möglichkeit\, um persönliche Fragen zu stellen\, gemeinsam nach Antworten in der Bibel zu suchen und sich auszutauschen. In so einer kleineren Gruppe kann man auch persönlicher auf jeden eingehen\, füreinander da sein\, miteinander beten. Wir sind ein bunter Haufen von Menschen jeglicher Herkunft\, die sich freuen Dich kennen zu lernen.
URL:https://alles-fuer-jesus.de/event/bibelabend-2023-03-22-2023-06-28-2026-04-22/
LOCATION:Christliches Gemeindezentrum „Alles für Jesus e.V.“\, Goethestr. 59\, Schwäbisch Gmünd\, BW\, 73525\, Deutschland
CATEGORIES:Besondere Veranstaltungen,Hauskreise
END:VEVENT
BEGIN:VEVENT
DTSTART;TZID=Europe/Berlin:20260424T193000
DTEND;TZID=Europe/Berlin:20260424T235900
DTSTAMP:20260420T141536
CREATED:20170917T205122Z
LAST-MODIFIED:20170917T205122Z
UID:4696-1777059000-1777075140@alles-fuer-jesus.de
SUMMARY:Jugend
DESCRIPTION:
URL:https://alles-fuer-jesus.de/event/jugend-2026-04-24/
LOCATION:Christliches Gemeindezentrum „Alles für Jesus e.V.“\, Goethestr. 59\, Schwäbisch Gmünd\, BW\, 73525\, Deutschland
CATEGORIES:Jugend
END:VEVENT
BEGIN:VEVENT
DTSTART;TZID=Europe/Berlin:20260426T100000
DTEND;TZID=Europe/Berlin:20260426T120000
DTSTAMP:20260420T141536
CREATED:20170917T145411Z
LAST-MODIFIED:20170917T145411Z
UID:4697-1777197600-1777204800@alles-fuer-jesus.de
SUMMARY:Gottesdienst
DESCRIPTION:Der Gottesdienst ist das Highlight der Woche. Hier trifft sich Alt und Jung\, um gemeinsam Gott zu preisen\, seinen Namen zu verherrlichen und Ihm unsere Liebe und Dankbarkeit zum Ausdruck zu bringen. Dies muss keinesfalls eine langweilige Zeit sein\, in der mit gesenkten Köpfen alte Lieder gesungen werden. Nein\, vielmehr wissen wir aus der Bibel\, dass bei solchen Veranstaltungen mit viel Freude\, fröhlichen Liedern und klaren einfachen Predigten Gott verherrlicht wurde und Gottes Wort mit Zeichen und Wundern bestätigt wurde. So sind unsere Gottesdienste keine einseitige Angelegenheit. Gott freut sich über unseren Lobpreis und die Zeit\, die wir mit Ihm verbringen und schenkt uns Freude\, Erbauung\, Trost\, Ermutigung\, Befreiung und Heilung.
URL:https://alles-fuer-jesus.de/event/gottesdienst-2026-04-26/
LOCATION:Christliches Gemeindezentrum „Alles für Jesus e.V.“\, Goethestr. 59\, Schwäbisch Gmünd\, BW\, 73525\, Deutschland
END:VEVENT
BEGIN:VEVENT
DTSTART;TZID=Europe/Berlin:20260427T190000
DTEND;TZID=Europe/Berlin:20260427T200000
DTSTAMP:20260420T141536
CREATED:20170917T145121Z
LAST-MODIFIED:20241201T100726Z
UID:4698-1777316400-1777320000@alles-fuer-jesus.de
SUMMARY:Gebetsabend
DESCRIPTION:Wir treffen uns jeden Montag im Christlichen Gemeindezentrum Alles für Jesus e.V um gemeinsame Anliegen vor Gott zu bringen und ihn zu preisen.
URL:https://alles-fuer-jesus.de/event/gebetsabend-2024-06-03-2024-12-09-2026-04-27/
LOCATION:BW
CATEGORIES:Gebetsabend
END:VEVENT
BEGIN:VEVENT
DTSTART;TZID=Europe/Berlin:20260429T200000
DTEND;TZID=Europe/Berlin:20260429T220000
DTSTAMP:20260420T141536
CREATED:20201109T133030Z
LAST-MODIFIED:20201109T133030Z
UID:4701-1777492800-1777500000@alles-fuer-jesus.de
SUMMARY:Bibelabend
DESCRIPTION:Die aktuelle Alternative zum Hauskreis. \nAufgrund der hohen Teilnehmerzahl haben wir den Hauskreis in die Gemeinde verlegt. Der Bibelabend ist eine geniale Möglichkeit unter der Woche in einem gemütlichen Kreis zusammenzukommen. Hier treffen wir uns in einer lockeren Runde\, um zusammen Lobpreis zu machen\, bei Kaffee oder Tee Gemeinschaft zu pflegen und über Gottes Wort zu reden. Meist gibt es kein festes Thema. Der Abend ist eine gute und gerne genutzte Möglichkeit\, um persönliche Fragen zu stellen\, gemeinsam nach Antworten in der Bibel zu suchen und sich auszutauschen. In so einer kleineren Gruppe kann man auch persönlicher auf jeden eingehen\, füreinander da sein\, miteinander beten. Wir sind ein bunter Haufen von Menschen jeglicher Herkunft\, die sich freuen Dich kennen zu lernen.
URL:https://alles-fuer-jesus.de/event/bibelabend-2023-03-22-2023-06-28-2026-04-29/
LOCATION:Christliches Gemeindezentrum „Alles für Jesus e.V.“\, Goethestr. 59\, Schwäbisch Gmünd\, BW\, 73525\, Deutschland
CATEGORIES:Besondere Veranstaltungen,Hauskreise
END:VEVENT
BEGIN:VEVENT
DTSTART;TZID=Europe/Berlin:20260501T193000
DTEND;TZID=Europe/Berlin:20260501T235900
DTSTAMP:20260420T141536
CREATED:20170917T205122Z
LAST-MODIFIED:20170917T205122Z
UID:4704-1777663800-1777679940@alles-fuer-jesus.de
SUMMARY:Jugend
DESCRIPTION:
URL:https://alles-fuer-jesus.de/event/jugend-2026-05-01/
LOCATION:Christliches Gemeindezentrum „Alles für Jesus e.V.“\, Goethestr. 59\, Schwäbisch Gmünd\, BW\, 73525\, Deutschland
CATEGORIES:Jugend
END:VEVENT
BEGIN:VEVENT
DTSTART;TZID=Europe/Berlin:20260503T100000
DTEND;TZID=Europe/Berlin:20260503T120000
DTSTAMP:20260420T141536
CREATED:20170917T145411Z
LAST-MODIFIED:20170917T145411Z
UID:4705-1777802400-1777809600@alles-fuer-jesus.de
SUMMARY:Gottesdienst
DESCRIPTION:Der Gottesdienst ist das Highlight der Woche. Hier trifft sich Alt und Jung\, um gemeinsam Gott zu preisen\, seinen Namen zu verherrlichen und Ihm unsere Liebe und Dankbarkeit zum Ausdruck zu bringen. Dies muss keinesfalls eine langweilige Zeit sein\, in der mit gesenkten Köpfen alte Lieder gesungen werden. Nein\, vielmehr wissen wir aus der Bibel\, dass bei solchen Veranstaltungen mit viel Freude\, fröhlichen Liedern und klaren einfachen Predigten Gott verherrlicht wurde und Gottes Wort mit Zeichen und Wundern bestätigt wurde. So sind unsere Gottesdienste keine einseitige Angelegenheit. Gott freut sich über unseren Lobpreis und die Zeit\, die wir mit Ihm verbringen und schenkt uns Freude\, Erbauung\, Trost\, Ermutigung\, Befreiung und Heilung.
URL:https://alles-fuer-jesus.de/event/gottesdienst-2026-05-03/
LOCATION:Christliches Gemeindezentrum „Alles für Jesus e.V.“\, Goethestr. 59\, Schwäbisch Gmünd\, BW\, 73525\, Deutschland
END:VEVENT
BEGIN:VEVENT
DTSTART;TZID=Europe/Berlin:20260504T190000
DTEND;TZID=Europe/Berlin:20260504T200000
DTSTAMP:20260420T141536
CREATED:20170917T145121Z
LAST-MODIFIED:20170917T145121Z
UID:5286-1777921200-1777924800@alles-fuer-jesus.de
SUMMARY:Gebetsabend
DESCRIPTION:Wir treffen uns jeden Montag im Christlichen Gemeindezentrum Alles für Jesus e.V um gemeinsame Anliegen vor Gott zu bringen und ihn zu preisen.
URL:https://alles-fuer-jesus.de/event/gebetsabend-2024-06-03-2024-12-09-2026-05-04/
LOCATION:BW
CATEGORIES:Gebetsabend
END:VEVENT
BEGIN:VEVENT
DTSTART;TZID=Europe/Berlin:20260506T200000
DTEND;TZID=Europe/Berlin:20260506T220000
DTSTAMP:20260420T141536
CREATED:20201109T133030Z
LAST-MODIFIED:20201109T133030Z
UID:4710-1778097600-1778104800@alles-fuer-jesus.de
SUMMARY:Bibelabend
DESCRIPTION:Die aktuelle Alternative zum Hauskreis. \nAufgrund der hohen Teilnehmerzahl haben wir den Hauskreis in die Gemeinde verlegt. Der Bibelabend ist eine geniale Möglichkeit unter der Woche in einem gemütlichen Kreis zusammenzukommen. Hier treffen wir uns in einer lockeren Runde\, um zusammen Lobpreis zu machen\, bei Kaffee oder Tee Gemeinschaft zu pflegen und über Gottes Wort zu reden. Meist gibt es kein festes Thema. Der Abend ist eine gute und gerne genutzte Möglichkeit\, um persönliche Fragen zu stellen\, gemeinsam nach Antworten in der Bibel zu suchen und sich auszutauschen. In so einer kleineren Gruppe kann man auch persönlicher auf jeden eingehen\, füreinander da sein\, miteinander beten. Wir sind ein bunter Haufen von Menschen jeglicher Herkunft\, die sich freuen Dich kennen zu lernen.
URL:https://alles-fuer-jesus.de/event/bibelabend-2023-03-22-2023-06-28-2026-05-06/
LOCATION:Christliches Gemeindezentrum „Alles für Jesus e.V.“\, Goethestr. 59\, Schwäbisch Gmünd\, BW\, 73525\, Deutschland
CATEGORIES:Besondere Veranstaltungen,Hauskreise
END:VEVENT
BEGIN:VEVENT
DTSTART;TZID=Europe/Berlin:20260508T193000
DTEND;TZID=Europe/Berlin:20260508T235900
DTSTAMP:20260420T141536
CREATED:20170917T205122Z
LAST-MODIFIED:20170917T205122Z
UID:4712-1778268600-1778284740@alles-fuer-jesus.de
SUMMARY:Jugend
DESCRIPTION:
URL:https://alles-fuer-jesus.de/event/jugend-2026-05-08/
LOCATION:Christliches Gemeindezentrum „Alles für Jesus e.V.“\, Goethestr. 59\, Schwäbisch Gmünd\, BW\, 73525\, Deutschland
CATEGORIES:Jugend
END:VEVENT
BEGIN:VEVENT
DTSTART;TZID=Europe/Berlin:20260510T100000
DTEND;TZID=Europe/Berlin:20260510T120000
DTSTAMP:20260420T141536
CREATED:20170917T145411Z
LAST-MODIFIED:20170917T145411Z
UID:4713-1778407200-1778414400@alles-fuer-jesus.de
SUMMARY:Gottesdienst
DESCRIPTION:Der Gottesdienst ist das Highlight der Woche. Hier trifft sich Alt und Jung\, um gemeinsam Gott zu preisen\, seinen Namen zu verherrlichen und Ihm unsere Liebe und Dankbarkeit zum Ausdruck zu bringen. Dies muss keinesfalls eine langweilige Zeit sein\, in der mit gesenkten Köpfen alte Lieder gesungen werden. Nein\, vielmehr wissen wir aus der Bibel\, dass bei solchen Veranstaltungen mit viel Freude\, fröhlichen Liedern und klaren einfachen Predigten Gott verherrlicht wurde und Gottes Wort mit Zeichen und Wundern bestätigt wurde. So sind unsere Gottesdienste keine einseitige Angelegenheit. Gott freut sich über unseren Lobpreis und die Zeit\, die wir mit Ihm verbringen und schenkt uns Freude\, Erbauung\, Trost\, Ermutigung\, Befreiung und Heilung.
URL:https://alles-fuer-jesus.de/event/gottesdienst-2026-05-10/
LOCATION:Christliches Gemeindezentrum „Alles für Jesus e.V.“\, Goethestr. 59\, Schwäbisch Gmünd\, BW\, 73525\, Deutschland
END:VEVENT
BEGIN:VEVENT
DTSTART;TZID=Europe/Berlin:20260511T190000
DTEND;TZID=Europe/Berlin:20260511T200000
DTSTAMP:20260420T141536
CREATED:20170917T145121Z
LAST-MODIFIED:20241201T100726Z
UID:4714-1778526000-1778529600@alles-fuer-jesus.de
SUMMARY:Gebetsabend
DESCRIPTION:Wir treffen uns jeden Montag im Christlichen Gemeindezentrum Alles für Jesus e.V um gemeinsame Anliegen vor Gott zu bringen und ihn zu preisen.
URL:https://alles-fuer-jesus.de/event/gebetsabend-2024-06-03-2024-12-09-2026-05-11/
LOCATION:BW
CATEGORIES:Gebetsabend
END:VEVENT
BEGIN:VEVENT
DTSTART;TZID=Europe/Berlin:20260513T200000
DTEND;TZID=Europe/Berlin:20260513T220000
DTSTAMP:20260420T141536
CREATED:20201109T133030Z
LAST-MODIFIED:20201109T133030Z
UID:4717-1778702400-1778709600@alles-fuer-jesus.de
SUMMARY:Bibelabend
DESCRIPTION:Die aktuelle Alternative zum Hauskreis. \nAufgrund der hohen Teilnehmerzahl haben wir den Hauskreis in die Gemeinde verlegt. Der Bibelabend ist eine geniale Möglichkeit unter der Woche in einem gemütlichen Kreis zusammenzukommen. Hier treffen wir uns in einer lockeren Runde\, um zusammen Lobpreis zu machen\, bei Kaffee oder Tee Gemeinschaft zu pflegen und über Gottes Wort zu reden. Meist gibt es kein festes Thema. Der Abend ist eine gute und gerne genutzte Möglichkeit\, um persönliche Fragen zu stellen\, gemeinsam nach Antworten in der Bibel zu suchen und sich auszutauschen. In so einer kleineren Gruppe kann man auch persönlicher auf jeden eingehen\, füreinander da sein\, miteinander beten. Wir sind ein bunter Haufen von Menschen jeglicher Herkunft\, die sich freuen Dich kennen zu lernen.
URL:https://alles-fuer-jesus.de/event/bibelabend-2023-03-22-2023-06-28-2026-05-13/
LOCATION:Christliches Gemeindezentrum „Alles für Jesus e.V.“\, Goethestr. 59\, Schwäbisch Gmünd\, BW\, 73525\, Deutschland
CATEGORIES:Besondere Veranstaltungen,Hauskreise
END:VEVENT
BEGIN:VEVENT
DTSTART;TZID=Europe/Berlin:20260515T193000
DTEND;TZID=Europe/Berlin:20260515T235900
DTSTAMP:20260420T141536
CREATED:20170917T205122Z
LAST-MODIFIED:20170917T205122Z
UID:4720-1778873400-1778889540@alles-fuer-jesus.de
SUMMARY:Jugend
DESCRIPTION:
URL:https://alles-fuer-jesus.de/event/jugend-2026-05-15/
LOCATION:Christliches Gemeindezentrum „Alles für Jesus e.V.“\, Goethestr. 59\, Schwäbisch Gmünd\, BW\, 73525\, Deutschland
CATEGORIES:Jugend
END:VEVENT
BEGIN:VEVENT
DTSTART;TZID=Europe/Berlin:20260517T100000
DTEND;TZID=Europe/Berlin:20260517T120000
DTSTAMP:20260420T141536
CREATED:20170917T145411Z
LAST-MODIFIED:20170917T145411Z
UID:4721-1779012000-1779019200@alles-fuer-jesus.de
SUMMARY:Gottesdienst
DESCRIPTION:Der Gottesdienst ist das Highlight der Woche. Hier trifft sich Alt und Jung\, um gemeinsam Gott zu preisen\, seinen Namen zu verherrlichen und Ihm unsere Liebe und Dankbarkeit zum Ausdruck zu bringen. Dies muss keinesfalls eine langweilige Zeit sein\, in der mit gesenkten Köpfen alte Lieder gesungen werden. Nein\, vielmehr wissen wir aus der Bibel\, dass bei solchen Veranstaltungen mit viel Freude\, fröhlichen Liedern und klaren einfachen Predigten Gott verherrlicht wurde und Gottes Wort mit Zeichen und Wundern bestätigt wurde. So sind unsere Gottesdienste keine einseitige Angelegenheit. Gott freut sich über unseren Lobpreis und die Zeit\, die wir mit Ihm verbringen und schenkt uns Freude\, Erbauung\, Trost\, Ermutigung\, Befreiung und Heilung.
URL:https://alles-fuer-jesus.de/event/gottesdienst-2026-05-17/
LOCATION:Christliches Gemeindezentrum „Alles für Jesus e.V.“\, Goethestr. 59\, Schwäbisch Gmünd\, BW\, 73525\, Deutschland
END:VEVENT
BEGIN:VEVENT
DTSTART;TZID=Europe/Berlin:20260518T190000
DTEND;TZID=Europe/Berlin:20260518T200000
DTSTAMP:20260420T141536
CREATED:20170917T145121Z
LAST-MODIFIED:20241201T100726Z
UID:4722-1779130800-1779134400@alles-fuer-jesus.de
SUMMARY:Gebetsabend
DESCRIPTION:Wir treffen uns jeden Montag im Christlichen Gemeindezentrum Alles für Jesus e.V um gemeinsame Anliegen vor Gott zu bringen und ihn zu preisen.
URL:https://alles-fuer-jesus.de/event/gebetsabend-2024-06-03-2024-12-09-2026-05-18/
LOCATION:BW
CATEGORIES:Gebetsabend
END:VEVENT
BEGIN:VEVENT
DTSTART;TZID=Europe/Berlin:20260520T200000
DTEND;TZID=Europe/Berlin:20260520T220000
DTSTAMP:20260420T141536
CREATED:20201109T133030Z
LAST-MODIFIED:20201109T133030Z
UID:4726-1779307200-1779314400@alles-fuer-jesus.de
SUMMARY:Bibelabend
DESCRIPTION:Die aktuelle Alternative zum Hauskreis. \nAufgrund der hohen Teilnehmerzahl haben wir den Hauskreis in die Gemeinde verlegt. Der Bibelabend ist eine geniale Möglichkeit unter der Woche in einem gemütlichen Kreis zusammenzukommen. Hier treffen wir uns in einer lockeren Runde\, um zusammen Lobpreis zu machen\, bei Kaffee oder Tee Gemeinschaft zu pflegen und über Gottes Wort zu reden. Meist gibt es kein festes Thema. Der Abend ist eine gute und gerne genutzte Möglichkeit\, um persönliche Fragen zu stellen\, gemeinsam nach Antworten in der Bibel zu suchen und sich auszutauschen. In so einer kleineren Gruppe kann man auch persönlicher auf jeden eingehen\, füreinander da sein\, miteinander beten. Wir sind ein bunter Haufen von Menschen jeglicher Herkunft\, die sich freuen Dich kennen zu lernen.
URL:https://alles-fuer-jesus.de/event/bibelabend-2023-03-22-2023-06-28-2026-05-20/
LOCATION:Christliches Gemeindezentrum „Alles für Jesus e.V.“\, Goethestr. 59\, Schwäbisch Gmünd\, BW\, 73525\, Deutschland
CATEGORIES:Besondere Veranstaltungen,Hauskreise
END:VEVENT
BEGIN:VEVENT
DTSTART;TZID=Europe/Berlin:20260522T193000
DTEND;TZID=Europe/Berlin:20260522T235900
DTSTAMP:20260420T141536
CREATED:20170917T205122Z
LAST-MODIFIED:20170917T205122Z
UID:4728-1779478200-1779494340@alles-fuer-jesus.de
SUMMARY:Jugend
DESCRIPTION:
URL:https://alles-fuer-jesus.de/event/jugend-2026-05-22/
LOCATION:Christliches Gemeindezentrum „Alles für Jesus e.V.“\, Goethestr. 59\, Schwäbisch Gmünd\, BW\, 73525\, Deutschland
CATEGORIES:Jugend
END:VEVENT
BEGIN:VEVENT
DTSTART;TZID=Europe/Berlin:20260524T100000
DTEND;TZID=Europe/Berlin:20260524T120000
DTSTAMP:20260420T141536
CREATED:20170917T145411Z
LAST-MODIFIED:20170917T145411Z
UID:4882-1779616800-1779624000@alles-fuer-jesus.de
SUMMARY:Gottesdienst
DESCRIPTION:Der Gottesdienst ist das Highlight der Woche. Hier trifft sich Alt und Jung\, um gemeinsam Gott zu preisen\, seinen Namen zu verherrlichen und Ihm unsere Liebe und Dankbarkeit zum Ausdruck zu bringen. Dies muss keinesfalls eine langweilige Zeit sein\, in der mit gesenkten Köpfen alte Lieder gesungen werden. Nein\, vielmehr wissen wir aus der Bibel\, dass bei solchen Veranstaltungen mit viel Freude\, fröhlichen Liedern und klaren einfachen Predigten Gott verherrlicht wurde und Gottes Wort mit Zeichen und Wundern bestätigt wurde. So sind unsere Gottesdienste keine einseitige Angelegenheit. Gott freut sich über unseren Lobpreis und die Zeit\, die wir mit Ihm verbringen und schenkt uns Freude\, Erbauung\, Trost\, Ermutigung\, Befreiung und Heilung.
URL:https://alles-fuer-jesus.de/event/gottesdienst-2026-05-24/
LOCATION:Christliches Gemeindezentrum „Alles für Jesus e.V.“\, Goethestr. 59\, Schwäbisch Gmünd\, BW\, 73525\, Deutschland
END:VEVENT
BEGIN:VEVENT
DTSTART;TZID=Europe/Berlin:20260525T190000
DTEND;TZID=Europe/Berlin:20260525T200000
DTSTAMP:20260420T141536
CREATED:20170917T145121Z
LAST-MODIFIED:20170917T145121Z
UID:4883-1779735600-1779739200@alles-fuer-jesus.de
SUMMARY:Gebetsabend
DESCRIPTION:Wir treffen uns jeden Montag im Christlichen Gemeindezentrum Alles für Jesus e.V um gemeinsame Anliegen vor Gott zu bringen und ihn zu preisen.
URL:https://alles-fuer-jesus.de/event/gebetsabend-2026-05-25/
LOCATION:BW
CATEGORIES:Gebetsabend
END:VEVENT
BEGIN:VEVENT
DTSTART;TZID=Europe/Berlin:20260525T190000
DTEND;TZID=Europe/Berlin:20260525T200000
DTSTAMP:20260420T141536
CREATED:20170917T145121Z
LAST-MODIFIED:20241201T100727Z
UID:4884-1779735600-1779739200@alles-fuer-jesus.de
SUMMARY:Gebetsabend
DESCRIPTION:Wir treffen uns jeden Montag im Christlichen Gemeindezentrum Alles für Jesus e.V um gemeinsame Anliegen vor Gott zu bringen und ihn zu preisen.
URL:https://alles-fuer-jesus.de/event/gebetsabend-2024-06-03-2024-12-09-2026-05-25/
LOCATION:BW
CATEGORIES:Gebetsabend
END:VEVENT
BEGIN:VEVENT
DTSTART;TZID=Europe/Berlin:20260527T200000
DTEND;TZID=Europe/Berlin:20260527T220000
DTSTAMP:20260420T141536
CREATED:20201109T133030Z
LAST-MODIFIED:20201109T133030Z
UID:4887-1779912000-1779919200@alles-fuer-jesus.de
SUMMARY:Bibelabend
DESCRIPTION:Die aktuelle Alternative zum Hauskreis. \nAufgrund der hohen Teilnehmerzahl haben wir den Hauskreis in die Gemeinde verlegt. Der Bibelabend ist eine geniale Möglichkeit unter der Woche in einem gemütlichen Kreis zusammenzukommen. Hier treffen wir uns in einer lockeren Runde\, um zusammen Lobpreis zu machen\, bei Kaffee oder Tee Gemeinschaft zu pflegen und über Gottes Wort zu reden. Meist gibt es kein festes Thema. Der Abend ist eine gute und gerne genutzte Möglichkeit\, um persönliche Fragen zu stellen\, gemeinsam nach Antworten in der Bibel zu suchen und sich auszutauschen. In so einer kleineren Gruppe kann man auch persönlicher auf jeden eingehen\, füreinander da sein\, miteinander beten. Wir sind ein bunter Haufen von Menschen jeglicher Herkunft\, die sich freuen Dich kennen zu lernen.
URL:https://alles-fuer-jesus.de/event/bibelabend-2023-03-22-2023-06-28-2026-05-27/
LOCATION:Christliches Gemeindezentrum „Alles für Jesus e.V.“\, Goethestr. 59\, Schwäbisch Gmünd\, BW\, 73525\, Deutschland
CATEGORIES:Besondere Veranstaltungen,Hauskreise
END:VEVENT
BEGIN:VEVENT
DTSTART;TZID=Europe/Berlin:20260529T193000
DTEND;TZID=Europe/Berlin:20260529T235900
DTSTAMP:20260420T141536
CREATED:20170917T205122Z
LAST-MODIFIED:20170917T205122Z
UID:4890-1780083000-1780099140@alles-fuer-jesus.de
SUMMARY:Jugend
DESCRIPTION:
URL:https://alles-fuer-jesus.de/event/jugend-2026-05-29/
LOCATION:Christliches Gemeindezentrum „Alles für Jesus e.V.“\, Goethestr. 59\, Schwäbisch Gmünd\, BW\, 73525\, Deutschland
CATEGORIES:Jugend
END:VEVENT
BEGIN:VEVENT
DTSTART;TZID=Europe/Berlin:20260531T100000
DTEND;TZID=Europe/Berlin:20260531T120000
DTSTAMP:20260420T141536
CREATED:20170917T145411Z
LAST-MODIFIED:20170917T145411Z
UID:4891-1780221600-1780228800@alles-fuer-jesus.de
SUMMARY:Gottesdienst
DESCRIPTION:Der Gottesdienst ist das Highlight der Woche. Hier trifft sich Alt und Jung\, um gemeinsam Gott zu preisen\, seinen Namen zu verherrlichen und Ihm unsere Liebe und Dankbarkeit zum Ausdruck zu bringen. Dies muss keinesfalls eine langweilige Zeit sein\, in der mit gesenkten Köpfen alte Lieder gesungen werden. Nein\, vielmehr wissen wir aus der Bibel\, dass bei solchen Veranstaltungen mit viel Freude\, fröhlichen Liedern und klaren einfachen Predigten Gott verherrlicht wurde und Gottes Wort mit Zeichen und Wundern bestätigt wurde. So sind unsere Gottesdienste keine einseitige Angelegenheit. Gott freut sich über unseren Lobpreis und die Zeit\, die wir mit Ihm verbringen und schenkt uns Freude\, Erbauung\, Trost\, Ermutigung\, Befreiung und Heilung.
URL:https://alles-fuer-jesus.de/event/gottesdienst-2026-05-31/
LOCATION:Christliches Gemeindezentrum „Alles für Jesus e.V.“\, Goethestr. 59\, Schwäbisch Gmünd\, BW\, 73525\, Deutschland
END:VEVENT
BEGIN:VEVENT
DTSTART;TZID=Europe/Berlin:20260601T190000
DTEND;TZID=Europe/Berlin:20260601T200000
DTSTAMP:20260420T141536
CREATED:20170917T145121Z
LAST-MODIFIED:20170917T145121Z
UID:5287-1780340400-1780344000@alles-fuer-jesus.de
SUMMARY:Gebetsabend
DESCRIPTION:Wir treffen uns jeden Montag im Christlichen Gemeindezentrum Alles für Jesus e.V um gemeinsame Anliegen vor Gott zu bringen und ihn zu preisen.
URL:https://alles-fuer-jesus.de/event/gebetsabend-2024-06-03-2024-12-09-2026-06-01/
LOCATION:BW
CATEGORIES:Gebetsabend
END:VEVENT
BEGIN:VEVENT
DTSTART;TZID=Europe/Berlin:20260601T190000
DTEND;TZID=Europe/Berlin:20260601T200000
DTSTAMP:20260420T141536
CREATED:20170917T145121Z
LAST-MODIFIED:20170917T145121Z
UID:4892-1780340400-1780344000@alles-fuer-jesus.de
SUMMARY:Gebetsabend
DESCRIPTION:Wir treffen uns jeden Montag im Christlichen Gemeindezentrum Alles für Jesus e.V um gemeinsame Anliegen vor Gott zu bringen und ihn zu preisen.
URL:https://alles-fuer-jesus.de/event/gebetsabend-2026-06-01/
LOCATION:BW
CATEGORIES:Gebetsabend
END:VEVENT
BEGIN:VEVENT
DTSTART;TZID=Europe/Berlin:20260603T200000
DTEND;TZID=Europe/Berlin:20260603T220000
DTSTAMP:20260420T141536
CREATED:20201109T133030Z
LAST-MODIFIED:20201109T133030Z
UID:4897-1780516800-1780524000@alles-fuer-jesus.de
SUMMARY:Bibelabend
DESCRIPTION:Die aktuelle Alternative zum Hauskreis. \nAufgrund der hohen Teilnehmerzahl haben wir den Hauskreis in die Gemeinde verlegt. Der Bibelabend ist eine geniale Möglichkeit unter der Woche in einem gemütlichen Kreis zusammenzukommen. Hier treffen wir uns in einer lockeren Runde\, um zusammen Lobpreis zu machen\, bei Kaffee oder Tee Gemeinschaft zu pflegen und über Gottes Wort zu reden. Meist gibt es kein festes Thema. Der Abend ist eine gute und gerne genutzte Möglichkeit\, um persönliche Fragen zu stellen\, gemeinsam nach Antworten in der Bibel zu suchen und sich auszutauschen. In so einer kleineren Gruppe kann man auch persönlicher auf jeden eingehen\, füreinander da sein\, miteinander beten. Wir sind ein bunter Haufen von Menschen jeglicher Herkunft\, die sich freuen Dich kennen zu lernen.
URL:https://alles-fuer-jesus.de/event/bibelabend-2023-03-22-2023-06-28-2026-06-03/
LOCATION:Christliches Gemeindezentrum „Alles für Jesus e.V.“\, Goethestr. 59\, Schwäbisch Gmünd\, BW\, 73525\, Deutschland
CATEGORIES:Besondere Veranstaltungen,Hauskreise
END:VEVENT
BEGIN:VEVENT
DTSTART;TZID=Europe/Berlin:20260605T193000
DTEND;TZID=Europe/Berlin:20260605T235900
DTSTAMP:20260420T141536
CREATED:20170917T205122Z
LAST-MODIFIED:20170917T205122Z
UID:4899-1780687800-1780703940@alles-fuer-jesus.de
SUMMARY:Jugend
DESCRIPTION:
URL:https://alles-fuer-jesus.de/event/jugend-2026-06-05/
LOCATION:Christliches Gemeindezentrum „Alles für Jesus e.V.“\, Goethestr. 59\, Schwäbisch Gmünd\, BW\, 73525\, Deutschland
CATEGORIES:Jugend
END:VEVENT
BEGIN:VEVENT
DTSTART;TZID=Europe/Berlin:20260607T100000
DTEND;TZID=Europe/Berlin:20260607T120000
DTSTAMP:20260420T141536
CREATED:20170917T145411Z
LAST-MODIFIED:20170917T145411Z
UID:4900-1780826400-1780833600@alles-fuer-jesus.de
SUMMARY:Gottesdienst
DESCRIPTION:Der Gottesdienst ist das Highlight der Woche. Hier trifft sich Alt und Jung\, um gemeinsam Gott zu preisen\, seinen Namen zu verherrlichen und Ihm unsere Liebe und Dankbarkeit zum Ausdruck zu bringen. Dies muss keinesfalls eine langweilige Zeit sein\, in der mit gesenkten Köpfen alte Lieder gesungen werden. Nein\, vielmehr wissen wir aus der Bibel\, dass bei solchen Veranstaltungen mit viel Freude\, fröhlichen Liedern und klaren einfachen Predigten Gott verherrlicht wurde und Gottes Wort mit Zeichen und Wundern bestätigt wurde. So sind unsere Gottesdienste keine einseitige Angelegenheit. Gott freut sich über unseren Lobpreis und die Zeit\, die wir mit Ihm verbringen und schenkt uns Freude\, Erbauung\, Trost\, Ermutigung\, Befreiung und Heilung.
URL:https://alles-fuer-jesus.de/event/gottesdienst-2026-06-07/
LOCATION:Christliches Gemeindezentrum „Alles für Jesus e.V.“\, Goethestr. 59\, Schwäbisch Gmünd\, BW\, 73525\, Deutschland
END:VEVENT
END:VCALENDAR