BEGIN:VCALENDAR
VERSION:2.0
PRODID:-//Christliches Gemeindezentrum - ECPv6.10.0//NONSGML v1.0//EN
CALSCALE:GREGORIAN
METHOD:PUBLISH
X-ORIGINAL-URL:https://alles-fuer-jesus.de
X-WR-CALDESC:Veranstaltungen für Christliches Gemeindezentrum
REFRESH-INTERVAL;VALUE=DURATION:PT1H
X-Robots-Tag:noindex
X-PUBLISHED-TTL:PT1H
BEGIN:VTIMEZONE
TZID:Europe/Berlin
BEGIN:DAYLIGHT
TZOFFSETFROM:+0100
TZOFFSETTO:+0200
TZNAME:CEST
DTSTART:20220327T010000
END:DAYLIGHT
BEGIN:STANDARD
TZOFFSETFROM:+0200
TZOFFSETTO:+0100
TZNAME:CET
DTSTART:20221030T010000
END:STANDARD
END:VTIMEZONE
BEGIN:VEVENT
DTSTART;TZID=Europe/Berlin:20221022T193000
DTEND;TZID=Europe/Berlin:20221022T230000
DTSTAMP:20260420T122926
CREATED:20221002T071937Z
LAST-MODIFIED:20221009T071441Z
UID:3634-1666467000-1666479600@alles-fuer-jesus.de
SUMMARY:Kinoabend
DESCRIPTION:
URL:https://alles-fuer-jesus.de/event/kinoabend-7/
LOCATION:Christliches Gemeindezentrum „Alles für Jesus e.V.“\, Goethestr. 59\, Schwäbisch Gmünd\, BW\, 73525\, Deutschland
CATEGORIES:Kinoabend
END:VEVENT
END:VCALENDAR