BEGIN:VCALENDAR
VERSION:2.0
PRODID:-//Christliches Gemeindezentrum - ECPv6.10.0//NONSGML v1.0//EN
CALSCALE:GREGORIAN
METHOD:PUBLISH
X-ORIGINAL-URL:https://alles-fuer-jesus.de
X-WR-CALDESC:Veranstaltungen für Christliches Gemeindezentrum
REFRESH-INTERVAL;VALUE=DURATION:PT1H
X-Robots-Tag:noindex
X-PUBLISHED-TTL:PT1H
BEGIN:VTIMEZONE
TZID:Europe/Berlin
BEGIN:DAYLIGHT
TZOFFSETFROM:+0100
TZOFFSETTO:+0200
TZNAME:CEST
DTSTART:20230326T010000
END:DAYLIGHT
BEGIN:STANDARD
TZOFFSETFROM:+0200
TZOFFSETTO:+0100
TZNAME:CET
DTSTART:20231029T010000
END:STANDARD
END:VTIMEZONE
BEGIN:VEVENT
DTSTART;TZID=Europe/Berlin:20230602T193000
DTEND;TZID=Europe/Berlin:20230602T235900
DTSTAMP:20260419T152112
CREATED:20170917T205122Z
LAST-MODIFIED:20170917T205122Z
UID:2397-1685734200-1685750340@alles-fuer-jesus.de
SUMMARY:Jugend
DESCRIPTION:
URL:https://alles-fuer-jesus.de/event/jugend-2023-06-02/
LOCATION:Christliches Gemeindezentrum „Alles für Jesus e.V.“\, Goethestr. 59\, Schwäbisch Gmünd\, BW\, 73525\, Deutschland
CATEGORIES:Jugend
END:VEVENT
BEGIN:VEVENT
DTSTART;TZID=Europe/Berlin:20230604T100000
DTEND;TZID=Europe/Berlin:20230604T120000
DTSTAMP:20260419T152112
CREATED:20170917T145411Z
LAST-MODIFIED:20170917T145411Z
UID:2398-1685872800-1685880000@alles-fuer-jesus.de
SUMMARY:Gottesdienst
DESCRIPTION:Der Gottesdienst ist das Highlight der Woche. Hier trifft sich Alt und Jung\, um gemeinsam Gott zu preisen\, seinen Namen zu verherrlichen und Ihm unsere Liebe und Dankbarkeit zum Ausdruck zu bringen. Dies muss keinesfalls eine langweilige Zeit sein\, in der mit gesenkten Köpfen alte Lieder gesungen werden. Nein\, vielmehr wissen wir aus der Bibel\, dass bei solchen Veranstaltungen mit viel Freude\, fröhlichen Liedern und klaren einfachen Predigten Gott verherrlicht wurde und Gottes Wort mit Zeichen und Wundern bestätigt wurde. So sind unsere Gottesdienste keine einseitige Angelegenheit. Gott freut sich über unseren Lobpreis und die Zeit\, die wir mit Ihm verbringen und schenkt uns Freude\, Erbauung\, Trost\, Ermutigung\, Befreiung und Heilung.
URL:https://alles-fuer-jesus.de/event/gottesdienst-2023-06-04/
LOCATION:Christliches Gemeindezentrum „Alles für Jesus e.V.“\, Goethestr. 59\, Schwäbisch Gmünd\, BW\, 73525\, Deutschland
END:VEVENT
BEGIN:VEVENT
DTSTART;TZID=Europe/Berlin:20230605T190000
DTEND;TZID=Europe/Berlin:20230605T200000
DTSTAMP:20260419T152112
CREATED:20170917T145121Z
LAST-MODIFIED:20170917T145121Z
UID:2401-1685991600-1685995200@alles-fuer-jesus.de
SUMMARY:Gebetsabend
DESCRIPTION:Wir treffen uns jeden Montag im Christlichen Gemeindezentrum Alles für Jesus e.V um gemeinsame Anliegen vor Gott zu bringen und ihn zu preisen.
URL:https://alles-fuer-jesus.de/event/gebetsabend-2023-06-05/
LOCATION:BW
CATEGORIES:Gebetsabend
END:VEVENT
BEGIN:VEVENT
DTSTART;TZID=Europe/Berlin:20230609T193000
DTEND;TZID=Europe/Berlin:20230609T235900
DTSTAMP:20260419T152112
CREATED:20170917T205122Z
LAST-MODIFIED:20170917T205122Z
UID:2403-1686339000-1686355140@alles-fuer-jesus.de
SUMMARY:Jugend
DESCRIPTION:
URL:https://alles-fuer-jesus.de/event/jugend-2023-06-09/
LOCATION:Christliches Gemeindezentrum „Alles für Jesus e.V.“\, Goethestr. 59\, Schwäbisch Gmünd\, BW\, 73525\, Deutschland
CATEGORIES:Jugend
END:VEVENT
BEGIN:VEVENT
DTSTART;TZID=Europe/Berlin:20230611T100000
DTEND;TZID=Europe/Berlin:20230611T120000
DTSTAMP:20260419T152112
CREATED:20170917T145411Z
LAST-MODIFIED:20170917T145411Z
UID:2404-1686477600-1686484800@alles-fuer-jesus.de
SUMMARY:Gottesdienst
DESCRIPTION:Der Gottesdienst ist das Highlight der Woche. Hier trifft sich Alt und Jung\, um gemeinsam Gott zu preisen\, seinen Namen zu verherrlichen und Ihm unsere Liebe und Dankbarkeit zum Ausdruck zu bringen. Dies muss keinesfalls eine langweilige Zeit sein\, in der mit gesenkten Köpfen alte Lieder gesungen werden. Nein\, vielmehr wissen wir aus der Bibel\, dass bei solchen Veranstaltungen mit viel Freude\, fröhlichen Liedern und klaren einfachen Predigten Gott verherrlicht wurde und Gottes Wort mit Zeichen und Wundern bestätigt wurde. So sind unsere Gottesdienste keine einseitige Angelegenheit. Gott freut sich über unseren Lobpreis und die Zeit\, die wir mit Ihm verbringen und schenkt uns Freude\, Erbauung\, Trost\, Ermutigung\, Befreiung und Heilung.
URL:https://alles-fuer-jesus.de/event/gottesdienst-2023-06-11/
LOCATION:Christliches Gemeindezentrum „Alles für Jesus e.V.“\, Goethestr. 59\, Schwäbisch Gmünd\, BW\, 73525\, Deutschland
END:VEVENT
BEGIN:VEVENT
DTSTART;TZID=Europe/Berlin:20230612T190000
DTEND;TZID=Europe/Berlin:20230612T200000
DTSTAMP:20260419T152112
CREATED:20170917T145121Z
LAST-MODIFIED:20170917T145121Z
UID:2407-1686596400-1686600000@alles-fuer-jesus.de
SUMMARY:Gebetsabend
DESCRIPTION:Wir treffen uns jeden Montag im Christlichen Gemeindezentrum Alles für Jesus e.V um gemeinsame Anliegen vor Gott zu bringen und ihn zu preisen.
URL:https://alles-fuer-jesus.de/event/gebetsabend-2023-06-12/
LOCATION:BW
CATEGORIES:Gebetsabend
END:VEVENT
BEGIN:VEVENT
DTSTART;TZID=Europe/Berlin:20230616T193000
DTEND;TZID=Europe/Berlin:20230616T235900
DTSTAMP:20260419T152112
CREATED:20170917T205122Z
LAST-MODIFIED:20170917T205122Z
UID:2409-1686943800-1686959940@alles-fuer-jesus.de
SUMMARY:Jugend
DESCRIPTION:
URL:https://alles-fuer-jesus.de/event/jugend-2023-06-16/
LOCATION:Christliches Gemeindezentrum „Alles für Jesus e.V.“\, Goethestr. 59\, Schwäbisch Gmünd\, BW\, 73525\, Deutschland
CATEGORIES:Jugend
END:VEVENT
BEGIN:VEVENT
DTSTART;TZID=Europe/Berlin:20230617T193000
DTEND;TZID=Europe/Berlin:20230617T233000
DTSTAMP:20260419T152112
CREATED:20230611T080208Z
LAST-MODIFIED:20230611T080208Z
UID:4061-1687030200-1687044600@alles-fuer-jesus.de
SUMMARY:Kinoabend
DESCRIPTION:
URL:https://alles-fuer-jesus.de/event/kinoabend-8/
LOCATION:Christliches Gemeindezentrum „Alles für Jesus e.V.“\, Goethestr. 59\, Schwäbisch Gmünd\, BW\, 73525\, Deutschland
CATEGORIES:Kinoabend
END:VEVENT
BEGIN:VEVENT
DTSTART;TZID=Europe/Berlin:20230618T100000
DTEND;TZID=Europe/Berlin:20230618T120000
DTSTAMP:20260419T152112
CREATED:20170917T145411Z
LAST-MODIFIED:20170917T145411Z
UID:2410-1687082400-1687089600@alles-fuer-jesus.de
SUMMARY:Gottesdienst
DESCRIPTION:Der Gottesdienst ist das Highlight der Woche. Hier trifft sich Alt und Jung\, um gemeinsam Gott zu preisen\, seinen Namen zu verherrlichen und Ihm unsere Liebe und Dankbarkeit zum Ausdruck zu bringen. Dies muss keinesfalls eine langweilige Zeit sein\, in der mit gesenkten Köpfen alte Lieder gesungen werden. Nein\, vielmehr wissen wir aus der Bibel\, dass bei solchen Veranstaltungen mit viel Freude\, fröhlichen Liedern und klaren einfachen Predigten Gott verherrlicht wurde und Gottes Wort mit Zeichen und Wundern bestätigt wurde. So sind unsere Gottesdienste keine einseitige Angelegenheit. Gott freut sich über unseren Lobpreis und die Zeit\, die wir mit Ihm verbringen und schenkt uns Freude\, Erbauung\, Trost\, Ermutigung\, Befreiung und Heilung.
URL:https://alles-fuer-jesus.de/event/gottesdienst-2023-06-18/
LOCATION:Christliches Gemeindezentrum „Alles für Jesus e.V.“\, Goethestr. 59\, Schwäbisch Gmünd\, BW\, 73525\, Deutschland
END:VEVENT
BEGIN:VEVENT
DTSTART;TZID=Europe/Berlin:20230619T190000
DTEND;TZID=Europe/Berlin:20230619T200000
DTSTAMP:20260419T152112
CREATED:20170917T145121Z
LAST-MODIFIED:20170917T145121Z
UID:2413-1687201200-1687204800@alles-fuer-jesus.de
SUMMARY:Gebetsabend
DESCRIPTION:Wir treffen uns jeden Montag im Christlichen Gemeindezentrum Alles für Jesus e.V um gemeinsame Anliegen vor Gott zu bringen und ihn zu preisen.
URL:https://alles-fuer-jesus.de/event/gebetsabend-2023-06-19/
LOCATION:BW
CATEGORIES:Gebetsabend
END:VEVENT
BEGIN:VEVENT
DTSTART;TZID=Europe/Berlin:20230623T193000
DTEND;TZID=Europe/Berlin:20230623T235900
DTSTAMP:20260419T152112
CREATED:20170917T205122Z
LAST-MODIFIED:20170917T205122Z
UID:2415-1687548600-1687564740@alles-fuer-jesus.de
SUMMARY:Jugend
DESCRIPTION:
URL:https://alles-fuer-jesus.de/event/jugend-2023-06-23/
LOCATION:Christliches Gemeindezentrum „Alles für Jesus e.V.“\, Goethestr. 59\, Schwäbisch Gmünd\, BW\, 73525\, Deutschland
CATEGORIES:Jugend
END:VEVENT
BEGIN:VEVENT
DTSTART;TZID=Europe/Berlin:20230625T100000
DTEND;TZID=Europe/Berlin:20230625T120000
DTSTAMP:20260419T152112
CREATED:20170917T145411Z
LAST-MODIFIED:20170917T145411Z
UID:2416-1687687200-1687694400@alles-fuer-jesus.de
SUMMARY:Gottesdienst
DESCRIPTION:Der Gottesdienst ist das Highlight der Woche. Hier trifft sich Alt und Jung\, um gemeinsam Gott zu preisen\, seinen Namen zu verherrlichen und Ihm unsere Liebe und Dankbarkeit zum Ausdruck zu bringen. Dies muss keinesfalls eine langweilige Zeit sein\, in der mit gesenkten Köpfen alte Lieder gesungen werden. Nein\, vielmehr wissen wir aus der Bibel\, dass bei solchen Veranstaltungen mit viel Freude\, fröhlichen Liedern und klaren einfachen Predigten Gott verherrlicht wurde und Gottes Wort mit Zeichen und Wundern bestätigt wurde. So sind unsere Gottesdienste keine einseitige Angelegenheit. Gott freut sich über unseren Lobpreis und die Zeit\, die wir mit Ihm verbringen und schenkt uns Freude\, Erbauung\, Trost\, Ermutigung\, Befreiung und Heilung.
URL:https://alles-fuer-jesus.de/event/gottesdienst-2023-06-25/
LOCATION:Christliches Gemeindezentrum „Alles für Jesus e.V.“\, Goethestr. 59\, Schwäbisch Gmünd\, BW\, 73525\, Deutschland
END:VEVENT
BEGIN:VEVENT
DTSTART;TZID=Europe/Berlin:20230626T190000
DTEND;TZID=Europe/Berlin:20230626T200000
DTSTAMP:20260419T152112
CREATED:20170917T145121Z
LAST-MODIFIED:20170917T145121Z
UID:2557-1687806000-1687809600@alles-fuer-jesus.de
SUMMARY:Gebetsabend
DESCRIPTION:Wir treffen uns jeden Montag im Christlichen Gemeindezentrum Alles für Jesus e.V um gemeinsame Anliegen vor Gott zu bringen und ihn zu preisen.
URL:https://alles-fuer-jesus.de/event/gebetsabend-2023-06-26/
LOCATION:BW
CATEGORIES:Gebetsabend
END:VEVENT
BEGIN:VEVENT
DTSTART;TZID=Europe/Berlin:20230628T200000
DTEND;TZID=Europe/Berlin:20230628T220000
DTSTAMP:20260419T152112
CREATED:20201109T133030Z
LAST-MODIFIED:20240121T102340Z
UID:3201-1687982400-1687989600@alles-fuer-jesus.de
SUMMARY:Bibelabend
DESCRIPTION:Die aktuelle Alternative zum Hauskreis. \nAufgrund der hohen Teilnehmerzahl haben wir den Hauskreis in die Gemeinde verlegt. Der Bibelabend ist eine geniale Möglichkeit unter der Woche in einem gemütlichen Kreis zusammenzukommen. Hier treffen wir uns in einer lockeren Runde\, um zusammen Lobpreis zu machen\, bei Kaffee oder Tee Gemeinschaft zu pflegen und über Gottes Wort zu reden. Meist gibt es kein festes Thema. Der Abend ist eine gute und gerne genutzte Möglichkeit\, um persönliche Fragen zu stellen\, gemeinsam nach Antworten in der Bibel zu suchen und sich auszutauschen. In so einer kleineren Gruppe kann man auch persönlicher auf jeden eingehen\, füreinander da sein\, miteinander beten. Wir sind ein bunter Haufen von Menschen jeglicher Herkunft\, die sich freuen Dich kennen zu lernen.
URL:https://alles-fuer-jesus.de/event/bibelabend-2023-03-22-2023-06-28/
LOCATION:Christliches Gemeindezentrum „Alles für Jesus e.V.“\, Goethestr. 59\, Schwäbisch Gmünd\, BW\, 73525\, Deutschland
CATEGORIES:Besondere Veranstaltungen,Hauskreise
END:VEVENT
BEGIN:VEVENT
DTSTART;TZID=Europe/Berlin:20230630T193000
DTEND;TZID=Europe/Berlin:20230630T235900
DTSTAMP:20260419T152112
CREATED:20170917T205122Z
LAST-MODIFIED:20170917T205122Z
UID:2559-1688153400-1688169540@alles-fuer-jesus.de
SUMMARY:Jugend
DESCRIPTION:
URL:https://alles-fuer-jesus.de/event/jugend-2023-06-30/
LOCATION:Christliches Gemeindezentrum „Alles für Jesus e.V.“\, Goethestr. 59\, Schwäbisch Gmünd\, BW\, 73525\, Deutschland
CATEGORIES:Jugend
END:VEVENT
END:VCALENDAR