BEGIN:VCALENDAR
VERSION:2.0
PRODID:-//Christliches Gemeindezentrum - ECPv6.10.0//NONSGML v1.0//EN
CALSCALE:GREGORIAN
METHOD:PUBLISH
X-ORIGINAL-URL:https://alles-fuer-jesus.de
X-WR-CALDESC:Veranstaltungen für Christliches Gemeindezentrum
REFRESH-INTERVAL;VALUE=DURATION:PT1H
X-Robots-Tag:noindex
X-PUBLISHED-TTL:PT1H
BEGIN:VTIMEZONE
TZID:Europe/Berlin
BEGIN:DAYLIGHT
TZOFFSETFROM:+0100
TZOFFSETTO:+0200
TZNAME:CEST
DTSTART:20250330T010000
END:DAYLIGHT
BEGIN:STANDARD
TZOFFSETFROM:+0200
TZOFFSETTO:+0100
TZNAME:CET
DTSTART:20251026T010000
END:STANDARD
END:VTIMEZONE
BEGIN:VEVENT
DTSTART;TZID=Europe/Berlin:20251102T100000
DTEND;TZID=Europe/Berlin:20251102T120000
DTSTAMP:20260422T105101
CREATED:20170917T145411Z
LAST-MODIFIED:20170917T145411Z
UID:4355-1762077600-1762084800@alles-fuer-jesus.de
SUMMARY:Gottesdienst
DESCRIPTION:Der Gottesdienst ist das Highlight der Woche. Hier trifft sich Alt und Jung\, um gemeinsam Gott zu preisen\, seinen Namen zu verherrlichen und Ihm unsere Liebe und Dankbarkeit zum Ausdruck zu bringen. Dies muss keinesfalls eine langweilige Zeit sein\, in der mit gesenkten Köpfen alte Lieder gesungen werden. Nein\, vielmehr wissen wir aus der Bibel\, dass bei solchen Veranstaltungen mit viel Freude\, fröhlichen Liedern und klaren einfachen Predigten Gott verherrlicht wurde und Gottes Wort mit Zeichen und Wundern bestätigt wurde. So sind unsere Gottesdienste keine einseitige Angelegenheit. Gott freut sich über unseren Lobpreis und die Zeit\, die wir mit Ihm verbringen und schenkt uns Freude\, Erbauung\, Trost\, Ermutigung\, Befreiung und Heilung.
URL:https://alles-fuer-jesus.de/event/gottesdienst-2025-11-02/
LOCATION:Christliches Gemeindezentrum „Alles für Jesus e.V.“\, Goethestr. 59\, Schwäbisch Gmünd\, BW\, 73525\, Deutschland
END:VEVENT
BEGIN:VEVENT
DTSTART;TZID=Europe/Berlin:20251103T190000
DTEND;TZID=Europe/Berlin:20251103T200000
DTSTAMP:20260422T105101
CREATED:20170917T145121Z
LAST-MODIFIED:20170917T145121Z
UID:5280-1762196400-1762200000@alles-fuer-jesus.de
SUMMARY:Gebetsabend
DESCRIPTION:Wir treffen uns jeden Montag im Christlichen Gemeindezentrum Alles für Jesus e.V um gemeinsame Anliegen vor Gott zu bringen und ihn zu preisen.
URL:https://alles-fuer-jesus.de/event/gebetsabend-2024-06-03-2024-12-09-2025-11-03/
LOCATION:BW
CATEGORIES:Gebetsabend
END:VEVENT
BEGIN:VEVENT
DTSTART;TZID=Europe/Berlin:20251105T190000
DTEND;TZID=Europe/Berlin:20251105T210000
DTSTAMP:20260422T105101
CREATED:20201109T133030Z
LAST-MODIFIED:20250622T091819Z
UID:4550-1762369200-1762376400@alles-fuer-jesus.de
SUMMARY:Bibelabend
DESCRIPTION:Die aktuelle Alternative zum Hauskreis. \nAufgrund der hohen Teilnehmerzahl haben wir den Hauskreis in die Gemeinde verlegt. Der Bibelabend ist eine geniale Möglichkeit unter der Woche in einem gemütlichen Kreis zusammenzukommen. Hier treffen wir uns in einer lockeren Runde\, um zusammen Lobpreis zu machen\, bei Kaffee oder Tee Gemeinschaft zu pflegen und über Gottes Wort zu reden. Meist gibt es kein festes Thema. Der Abend ist eine gute und gerne genutzte Möglichkeit\, um persönliche Fragen zu stellen\, gemeinsam nach Antworten in der Bibel zu suchen und sich auszutauschen. In so einer kleineren Gruppe kann man auch persönlicher auf jeden eingehen\, füreinander da sein\, miteinander beten. Wir sind ein bunter Haufen von Menschen jeglicher Herkunft\, die sich freuen Dich kennen zu lernen.
URL:https://alles-fuer-jesus.de/event/bibelabend-2023-03-22-2023-06-28-2025-11-05/
LOCATION:Christliches Gemeindezentrum „Alles für Jesus e.V.“\, Goethestr. 59\, Schwäbisch Gmünd\, BW\, 73525\, Deutschland
CATEGORIES:Besondere Veranstaltungen,Hauskreise
END:VEVENT
BEGIN:VEVENT
DTSTART;TZID=Europe/Berlin:20251107T193000
DTEND;TZID=Europe/Berlin:20251107T235900
DTSTAMP:20260422T105101
CREATED:20170917T205122Z
LAST-MODIFIED:20170917T205122Z
UID:4361-1762543800-1762559940@alles-fuer-jesus.de
SUMMARY:Jugend
DESCRIPTION:
URL:https://alles-fuer-jesus.de/event/jugend-2025-11-07/
LOCATION:Christliches Gemeindezentrum „Alles für Jesus e.V.“\, Goethestr. 59\, Schwäbisch Gmünd\, BW\, 73525\, Deutschland
CATEGORIES:Jugend
END:VEVENT
BEGIN:VEVENT
DTSTART;TZID=Europe/Berlin:20251109T100000
DTEND;TZID=Europe/Berlin:20251109T120000
DTSTAMP:20260422T105101
CREATED:20170917T145411Z
LAST-MODIFIED:20170917T145411Z
UID:4362-1762682400-1762689600@alles-fuer-jesus.de
SUMMARY:Gottesdienst
DESCRIPTION:Der Gottesdienst ist das Highlight der Woche. Hier trifft sich Alt und Jung\, um gemeinsam Gott zu preisen\, seinen Namen zu verherrlichen und Ihm unsere Liebe und Dankbarkeit zum Ausdruck zu bringen. Dies muss keinesfalls eine langweilige Zeit sein\, in der mit gesenkten Köpfen alte Lieder gesungen werden. Nein\, vielmehr wissen wir aus der Bibel\, dass bei solchen Veranstaltungen mit viel Freude\, fröhlichen Liedern und klaren einfachen Predigten Gott verherrlicht wurde und Gottes Wort mit Zeichen und Wundern bestätigt wurde. So sind unsere Gottesdienste keine einseitige Angelegenheit. Gott freut sich über unseren Lobpreis und die Zeit\, die wir mit Ihm verbringen und schenkt uns Freude\, Erbauung\, Trost\, Ermutigung\, Befreiung und Heilung.
URL:https://alles-fuer-jesus.de/event/gottesdienst-2025-11-09/
LOCATION:Christliches Gemeindezentrum „Alles für Jesus e.V.“\, Goethestr. 59\, Schwäbisch Gmünd\, BW\, 73525\, Deutschland
END:VEVENT
BEGIN:VEVENT
DTSTART;TZID=Europe/Berlin:20251110T190000
DTEND;TZID=Europe/Berlin:20251110T200000
DTSTAMP:20260422T105101
CREATED:20170917T145121Z
LAST-MODIFIED:20241201T100722Z
UID:4363-1762801200-1762804800@alles-fuer-jesus.de
SUMMARY:Gebetsabend
DESCRIPTION:Wir treffen uns jeden Montag im Christlichen Gemeindezentrum Alles für Jesus e.V um gemeinsame Anliegen vor Gott zu bringen und ihn zu preisen.
URL:https://alles-fuer-jesus.de/event/gebetsabend-2024-06-03-2024-12-09-2025-11-10/
LOCATION:BW
CATEGORIES:Gebetsabend
END:VEVENT
BEGIN:VEVENT
DTSTART;TZID=Europe/Berlin:20251112T190000
DTEND;TZID=Europe/Berlin:20251112T210000
DTSTAMP:20260422T105101
CREATED:20201109T133030Z
LAST-MODIFIED:20250622T091832Z
UID:4551-1762974000-1762981200@alles-fuer-jesus.de
SUMMARY:Bibelabend
DESCRIPTION:Die aktuelle Alternative zum Hauskreis. \nAufgrund der hohen Teilnehmerzahl haben wir den Hauskreis in die Gemeinde verlegt. Der Bibelabend ist eine geniale Möglichkeit unter der Woche in einem gemütlichen Kreis zusammenzukommen. Hier treffen wir uns in einer lockeren Runde\, um zusammen Lobpreis zu machen\, bei Kaffee oder Tee Gemeinschaft zu pflegen und über Gottes Wort zu reden. Meist gibt es kein festes Thema. Der Abend ist eine gute und gerne genutzte Möglichkeit\, um persönliche Fragen zu stellen\, gemeinsam nach Antworten in der Bibel zu suchen und sich auszutauschen. In so einer kleineren Gruppe kann man auch persönlicher auf jeden eingehen\, füreinander da sein\, miteinander beten. Wir sind ein bunter Haufen von Menschen jeglicher Herkunft\, die sich freuen Dich kennen zu lernen.
URL:https://alles-fuer-jesus.de/event/bibelabend-2023-03-22-2023-06-28-2025-11-12/
LOCATION:Christliches Gemeindezentrum „Alles für Jesus e.V.“\, Goethestr. 59\, Schwäbisch Gmünd\, BW\, 73525\, Deutschland
CATEGORIES:Besondere Veranstaltungen,Hauskreise
END:VEVENT
BEGIN:VEVENT
DTSTART;TZID=Europe/Berlin:20251114T193000
DTEND;TZID=Europe/Berlin:20251114T235900
DTSTAMP:20260422T105101
CREATED:20170917T205122Z
LAST-MODIFIED:20170917T205122Z
UID:4368-1763148600-1763164740@alles-fuer-jesus.de
SUMMARY:Jugend
DESCRIPTION:
URL:https://alles-fuer-jesus.de/event/jugend-2025-11-14/
LOCATION:Christliches Gemeindezentrum „Alles für Jesus e.V.“\, Goethestr. 59\, Schwäbisch Gmünd\, BW\, 73525\, Deutschland
CATEGORIES:Jugend
END:VEVENT
BEGIN:VEVENT
DTSTART;TZID=Europe/Berlin:20251116T100000
DTEND;TZID=Europe/Berlin:20251116T120000
DTSTAMP:20260422T105101
CREATED:20170917T145411Z
LAST-MODIFIED:20170917T145411Z
UID:4369-1763287200-1763294400@alles-fuer-jesus.de
SUMMARY:Gottesdienst
DESCRIPTION:Der Gottesdienst ist das Highlight der Woche. Hier trifft sich Alt und Jung\, um gemeinsam Gott zu preisen\, seinen Namen zu verherrlichen und Ihm unsere Liebe und Dankbarkeit zum Ausdruck zu bringen. Dies muss keinesfalls eine langweilige Zeit sein\, in der mit gesenkten Köpfen alte Lieder gesungen werden. Nein\, vielmehr wissen wir aus der Bibel\, dass bei solchen Veranstaltungen mit viel Freude\, fröhlichen Liedern und klaren einfachen Predigten Gott verherrlicht wurde und Gottes Wort mit Zeichen und Wundern bestätigt wurde. So sind unsere Gottesdienste keine einseitige Angelegenheit. Gott freut sich über unseren Lobpreis und die Zeit\, die wir mit Ihm verbringen und schenkt uns Freude\, Erbauung\, Trost\, Ermutigung\, Befreiung und Heilung.
URL:https://alles-fuer-jesus.de/event/gottesdienst-2025-11-16/
LOCATION:Christliches Gemeindezentrum „Alles für Jesus e.V.“\, Goethestr. 59\, Schwäbisch Gmünd\, BW\, 73525\, Deutschland
END:VEVENT
BEGIN:VEVENT
DTSTART;TZID=Europe/Berlin:20251117T190000
DTEND;TZID=Europe/Berlin:20251117T200000
DTSTAMP:20260422T105101
CREATED:20170917T145121Z
LAST-MODIFIED:20241201T100723Z
UID:4370-1763406000-1763409600@alles-fuer-jesus.de
SUMMARY:Gebetsabend
DESCRIPTION:Wir treffen uns jeden Montag im Christlichen Gemeindezentrum Alles für Jesus e.V um gemeinsame Anliegen vor Gott zu bringen und ihn zu preisen.
URL:https://alles-fuer-jesus.de/event/gebetsabend-2024-06-03-2024-12-09-2025-11-17/
LOCATION:BW
CATEGORIES:Gebetsabend
END:VEVENT
BEGIN:VEVENT
DTSTART;TZID=Europe/Berlin:20251121T193000
DTEND;TZID=Europe/Berlin:20251121T235900
DTSTAMP:20260422T105101
CREATED:20170917T205122Z
LAST-MODIFIED:20170917T205122Z
UID:4375-1763753400-1763769540@alles-fuer-jesus.de
SUMMARY:Jugend
DESCRIPTION:
URL:https://alles-fuer-jesus.de/event/jugend-2025-11-21/
LOCATION:Christliches Gemeindezentrum „Alles für Jesus e.V.“\, Goethestr. 59\, Schwäbisch Gmünd\, BW\, 73525\, Deutschland
CATEGORIES:Jugend
END:VEVENT
BEGIN:VEVENT
DTSTART;TZID=Europe/Berlin:20251123T100000
DTEND;TZID=Europe/Berlin:20251123T120000
DTSTAMP:20260422T105101
CREATED:20170917T145411Z
LAST-MODIFIED:20170917T145411Z
UID:4376-1763892000-1763899200@alles-fuer-jesus.de
SUMMARY:Gottesdienst
DESCRIPTION:Der Gottesdienst ist das Highlight der Woche. Hier trifft sich Alt und Jung\, um gemeinsam Gott zu preisen\, seinen Namen zu verherrlichen und Ihm unsere Liebe und Dankbarkeit zum Ausdruck zu bringen. Dies muss keinesfalls eine langweilige Zeit sein\, in der mit gesenkten Köpfen alte Lieder gesungen werden. Nein\, vielmehr wissen wir aus der Bibel\, dass bei solchen Veranstaltungen mit viel Freude\, fröhlichen Liedern und klaren einfachen Predigten Gott verherrlicht wurde und Gottes Wort mit Zeichen und Wundern bestätigt wurde. So sind unsere Gottesdienste keine einseitige Angelegenheit. Gott freut sich über unseren Lobpreis und die Zeit\, die wir mit Ihm verbringen und schenkt uns Freude\, Erbauung\, Trost\, Ermutigung\, Befreiung und Heilung.
URL:https://alles-fuer-jesus.de/event/gottesdienst-2025-11-23/
LOCATION:Christliches Gemeindezentrum „Alles für Jesus e.V.“\, Goethestr. 59\, Schwäbisch Gmünd\, BW\, 73525\, Deutschland
END:VEVENT
BEGIN:VEVENT
DTSTART;TZID=Europe/Berlin:20251124T190000
DTEND;TZID=Europe/Berlin:20251124T200000
DTSTAMP:20260422T105101
CREATED:20170917T145121Z
LAST-MODIFIED:20241201T100723Z
UID:4377-1764010800-1764014400@alles-fuer-jesus.de
SUMMARY:Gebetsabend
DESCRIPTION:Wir treffen uns jeden Montag im Christlichen Gemeindezentrum Alles für Jesus e.V um gemeinsame Anliegen vor Gott zu bringen und ihn zu preisen.
URL:https://alles-fuer-jesus.de/event/gebetsabend-2024-06-03-2024-12-09-2025-11-24/
LOCATION:BW
CATEGORIES:Gebetsabend
END:VEVENT
BEGIN:VEVENT
DTSTART;TZID=Europe/Berlin:20251128T193000
DTEND;TZID=Europe/Berlin:20251128T235900
DTSTAMP:20260422T105101
CREATED:20170917T205122Z
LAST-MODIFIED:20170917T205122Z
UID:4382-1764358200-1764374340@alles-fuer-jesus.de
SUMMARY:Jugend
DESCRIPTION:
URL:https://alles-fuer-jesus.de/event/jugend-2025-11-28/
LOCATION:Christliches Gemeindezentrum „Alles für Jesus e.V.“\, Goethestr. 59\, Schwäbisch Gmünd\, BW\, 73525\, Deutschland
CATEGORIES:Jugend
END:VEVENT
BEGIN:VEVENT
DTSTART;TZID=Europe/Berlin:20251130T100000
DTEND;TZID=Europe/Berlin:20251130T120000
DTSTAMP:20260422T105101
CREATED:20170917T145411Z
LAST-MODIFIED:20170917T145411Z
UID:4383-1764496800-1764504000@alles-fuer-jesus.de
SUMMARY:Gottesdienst
DESCRIPTION:Der Gottesdienst ist das Highlight der Woche. Hier trifft sich Alt und Jung\, um gemeinsam Gott zu preisen\, seinen Namen zu verherrlichen und Ihm unsere Liebe und Dankbarkeit zum Ausdruck zu bringen. Dies muss keinesfalls eine langweilige Zeit sein\, in der mit gesenkten Köpfen alte Lieder gesungen werden. Nein\, vielmehr wissen wir aus der Bibel\, dass bei solchen Veranstaltungen mit viel Freude\, fröhlichen Liedern und klaren einfachen Predigten Gott verherrlicht wurde und Gottes Wort mit Zeichen und Wundern bestätigt wurde. So sind unsere Gottesdienste keine einseitige Angelegenheit. Gott freut sich über unseren Lobpreis und die Zeit\, die wir mit Ihm verbringen und schenkt uns Freude\, Erbauung\, Trost\, Ermutigung\, Befreiung und Heilung.
URL:https://alles-fuer-jesus.de/event/gottesdienst-2025-11-30/
LOCATION:Christliches Gemeindezentrum „Alles für Jesus e.V.“\, Goethestr. 59\, Schwäbisch Gmünd\, BW\, 73525\, Deutschland
END:VEVENT
END:VCALENDAR